BEGIN:VCALENDAR
VERSION:2.0
PRODID:-//ChamberMaster//Event Calendar 2.0//EN
METHOD:PUBLISH
X-PUBLISHED-TTL:P3D
REFRESH-INTERVAL:P3D
CALSCALE:GREGORIAN
BEGIN:VEVENT
DTSTART:20100916T113000Z
DTEND:20100916T133000Z
X-MICROSOFT-CDO-ALLDAYEVENT:FALSE
SUMMARY:Community Update Breakfast 2010
DESCRIPTION:"STATE OF NEW ALBANY" Chamber's update breakfast will include reports from: Village of New Albany\, Plain Township\, The Parks and Rec. and Plain Local Schools.\n\nKeith Myers will be the Key Note Speaker\, along with reports from Bill Ebbing of the New Albany Company and Mayor Nancy Ferguson
X-ALT-DESC;FMTTYPE=text/html:&quot\;STATE OF NEW ALBANY&quot\; Chamber&#39\;s update breakfast will include reports from: Village of New Albany\, Plain Township\, The Parks and Rec. and Plain Local Schools.<br />\nKeith Myers will be the Key Note Speaker\, along with reports from Bill Ebbing of the New Albany Company and Mayor Nancy Ferguson
LOCATION:East Golf Club 6140 Babbitt Road New Albany\, Ohio
UID:e.304.678
SEQUENCE:3
DTSTAMP:20260420T225113Z
URL:https://cm.newalbanychamber.com/events/details/community-update-breakfast-2010-09-16-2010-678
END:VEVENT

END:VCALENDAR
