BEGIN:VCALENDAR
VERSION:2.0
PRODID:-//ChamberMaster//Event Calendar 2.0//EN
METHOD:PUBLISH
X-PUBLISHED-TTL:P3D
REFRESH-INTERVAL:P3D
CALSCALE:GREGORIAN
BEGIN:VEVENT
DTSTART:20110122T170000Z
DTEND:20110122T170000Z
X-MICROSOFT-CDO-ALLDAYEVENT:FALSE
SUMMARY:Computer Recyling Event
DESCRIPTION:Community Computer Alliance and New Albany Rotary is proud to sponsor\, Computer Recycling Event.
X-ALT-DESC;FMTTYPE=text/html:Community Computer Alliance and New Albany Rotary is proud to sponsor\, Computer Recycling Event.
LOCATION:New Albany Middle School Parking lot.
UID:e.304.730
SEQUENCE:3
DTSTAMP:20260420T161220Z
URL:https://cm.newalbanychamber.com/events/details/computer-recyling-event-01-22-2011-730
END:VEVENT

END:VCALENDAR
