BEGIN:VCALENDAR
VERSION:2.0
PRODID:-//ChamberMaster//Event Calendar 2.0//EN
METHOD:PUBLISH
X-PUBLISHED-TTL:P3D
REFRESH-INTERVAL:P3D
CALSCALE:GREGORIAN
BEGIN:VEVENT
DTSTART:20110626T233000Z
DTEND:20110627T010000Z
X-MICROSOFT-CDO-ALLDAYEVENT:FALSE
SUMMARY:Concert on the Commons
DESCRIPTION:Concert on the Commons sponsored by the New Albany Arts Council.\n\nPlease join us as we celebrate "On Broadway" with favorite songs from past and present and a bang-up red\, white and blue finale that includes YOU!
X-ALT-DESC;FMTTYPE=text/html:Concert on the Commons sponsored by the New Albany Arts Council.<br />\nPlease join us as we celebrate &quot\;On Broadway&quot\; with favorite songs from past and present and a bang-up red\, white and blue finale that includes YOU!
LOCATION:New Albany High School Commons
UID:e.304.763
SEQUENCE:3
DTSTAMP:20260420T083708Z
URL:https://cm.newalbanychamber.com/events/details/concert-on-the-commons-06-26-2011-763
END:VEVENT

END:VCALENDAR
