BEGIN:VCALENDAR
VERSION:2.0
PRODID:-//ChamberMaster//Event Calendar 2.0//EN
METHOD:PUBLISH
X-PUBLISHED-TTL:P3D
REFRESH-INTERVAL:P3D
CALSCALE:GREGORIAN
BEGIN:VEVENT
DTSTART:20100627T233000Z
DTEND:20100628T010000Z
X-MICROSOFT-CDO-ALLDAYEVENT:FALSE
SUMMARY:Concert on the Commons
DESCRIPTION:"Seasons of Love" annual summer Concert featuring the New Albany Chorus\, New Albany Community Band\, guest artists
X-ALT-DESC;FMTTYPE=text/html:"Seasons of Love" annual summer Concert featuring the New Albany Chorus\, New Albany Community Band\, guest artists
LOCATION:New Albany High School Library Commons\, 7600 Fodor Rd.\, New Albany\, Ohio
UID:e.304.540
SEQUENCE:3
DTSTAMP:20260421T034652Z
URL:https://cm.newalbanychamber.com/events/details/concert-on-the-commons-06-27-2010-540
END:VEVENT

END:VCALENDAR
