BEGIN:VCALENDAR
VERSION:2.0
PRODID:-//ChamberMaster//Event Calendar 2.0//EN
METHOD:PUBLISH
X-PUBLISHED-TTL:P3D
REFRESH-INTERVAL:P3D
CALSCALE:GREGORIAN
BEGIN:VEVENT
DTSTART;VALUE=DATE:20080629
DTEND;VALUE=DATE:20080630
TRANSP:TRANSPARENT
X-MICROSOFT-CDO-ALLDAYEVENT:TRUE
SUMMARY:Concert on the Commons
DESCRIPTION:"Concert on the Commons".  Public concert on the lawn.  Picnics and food are welcome!
X-ALT-DESC;FMTTYPE=text/html:<div>&quot\;Concert on the Commons&quot\;.&nbsp\; Public concert on the lawn.&nbsp\; Picnics and food are welcome!</div>
LOCATION:The lawn in front of the New Albany High School Library7600 Fodor Rd.New Albany\, OH 43054
UID:e.304.192
SEQUENCE:3
DTSTAMP:20260422T161206Z
URL:https://cm.newalbanychamber.com/events/details/concert-on-the-commons-06-29-2008-192
END:VEVENT

END:VCALENDAR
