BEGIN:VCALENDAR
VERSION:2.0
PRODID:-//ChamberMaster//Event Calendar 2.0//EN
METHOD:PUBLISH
X-PUBLISHED-TTL:P3D
REFRESH-INTERVAL:P3D
CALSCALE:GREGORIAN
BEGIN:VEVENT
DTSTART:20090628T233000Z
DTEND:20090629T003000Z
X-MICROSOFT-CDO-ALLDAYEVENT:FALSE
SUMMARY:Concert on the Commons at New Albany High School
DESCRIPTION:Free concert on the Commons at the New Albany High SchoolSponsored by the New Albany Arts Council"That 70's show featuring the New Albany Chorus\, The New Albany Community Band\, Sentimental Journey\, Dancer Mary Eller\, Jazz Painist Scott Sadoff and Master of Ceremonies Phillip Wilson.
X-ALT-DESC;FMTTYPE=text/html:<div>Free concert on the Commons at the New Albany High School</div><div>Sponsored by the New Albany Arts Council</div><div>&quot\;That 70's show featuring the New Albany Chorus\, The New Albany Community Band\, Sentimental Journey\, Dancer Mary Eller\, Jazz Painist Scott Sadoff and Master of Ceremonies Phillip Wilson.</div>
LOCATION:New Albany High SchoolCommons Lawn
UID:e.304.358
SEQUENCE:3
DTSTAMP:20260421T220236Z
URL:https://cm.newalbanychamber.com/events/details/concert-on-the-commons-at-new-albany-high-school-06-28-2009-358
END:VEVENT

END:VCALENDAR
