BEGIN:VCALENDAR
VERSION:2.0
PRODID:-//ChamberMaster//Event Calendar 2.0//EN
METHOD:PUBLISH
X-PUBLISHED-TTL:P3D
REFRESH-INTERVAL:P3D
CALSCALE:GREGORIAN
BEGIN:VEVENT
DTSTART:20100715T113000Z
DTEND:20100715T140000Z
X-MICROSOFT-CDO-ALLDAYEVENT:FALSE
SUMMARY:Continuing Professional Education (CPE) for CPA
DESCRIPTION:Understanding Business Investment Opportunities: This course\, presented by the TechColumbus Venture Development team\, will provide you with information on private equity\, state and federal grants and tax incentives that would benefit clients that participate in research and development of new technology based products. CPA's will earn 2 hours of Specialized Knowledge CPE Credit.\n\n\n\nLearning Objective: To become aware of the numerous resources for technology based companies and to identify how and when a company should seek these resources.   \n\n \n\n\n\nFee:  Free for TechColumbus Members\; $15 for non-members\n\n\n\nProgram Content and Major Subjects: \n\n? The landscape of private equity sources in Ohio and an overview of how they operate. \n\n? Navigating Ohio?s Third Frontier Grant and Loan programs \n\n? Discovering Ohio?s Technology Investment Tax Credit for accredited investors \n\n? Overview of Traditional Economic Development programs.\n\n\n\nAdvance Preparation: Optional for the participants to preview the TechStart program beforehand by visiting the website at www.techcolumbus.org/techstart .\n\n\n\nInstructional Delivery Method: Classroom style lecture with PowerPoint presentation and handouts.\n\n\n\nCourse Registration Requirements:  Registration is required by July 14 at 12:00 pm\n\n\n\nDesigned For:  CPAs looking to a better understand private equity and grant based funding opportunities for technology companies. \n\n \n\nPrerequisite: None \n\n \n\nContact Information: Laura Coffee\, TechColumbus at 614-675-3755 or by email at lcoffee@techcolumbus.org
X-ALT-DESC;FMTTYPE=text/html:Understanding Business Investment Opportunities: This course\, presented by the TechColumbus Venture Development team\, will provide you with information on private equity\, state and federal grants and tax incentives that would benefit clients that participate in research and development of new technology based products. CPA's will earn 2 hours of Specialized Knowledge CPE Credit.\n<br>\n<br>Learning Objective: To become aware of the numerous resources for technology based companies and to identify how and when a company should seek these resources.   \n<br> \n<br>\n<br>Fee:  Free for TechColumbus Members\; $15 for non-members\n<br>\n<br>Program Content and Major Subjects: \n<br>? The landscape of private equity sources in Ohio and an overview of how they operate. \n<br>? Navigating Ohio?s Third Frontier Grant and Loan programs \n<br>? Discovering Ohio?s Technology Investment Tax Credit for accredited investors \n<br>? Overview of Traditional Economic Development programs.\n<br>\n<br>Advance Preparation: Optional for the participants to preview the TechStart program beforehand by visiting the website at www.techcolumbus.org/techstart .\n<br>\n<br>Instructional Delivery Method: Classroom style lecture with PowerPoint presentation and handouts.\n<br>\n<br>Course Registration Requirements:  Registration is required by July 14 at 12:00 pm\n<br>\n<br>Designed For:  CPAs looking to a better understand private equity and grant based funding opportunities for technology companies. \n<br> \n<br>Prerequisite: None \n<br> \n<br>Contact Information: Laura Coffee\, TechColumbus at 614-675-3755 or by email at lcoffee@techcolumbus.org\n<br>\n<br>
LOCATION:New Albany Business Development Center\, 6530 West Campus Oval New Albany\, OH 43054
UID:e.304.658
SEQUENCE:3
DTSTAMP:20260421T022313Z
URL:https://cm.newalbanychamber.com/events/details/continuing-professional-education-cpe-for-cpa-07-15-2010-658
END:VEVENT

END:VCALENDAR
