BEGIN:VCALENDAR
VERSION:2.0
PRODID:-//ChamberMaster//Event Calendar 2.0//EN
METHOD:PUBLISH
X-PUBLISHED-TTL:P3D
REFRESH-INTERVAL:P3D
CALSCALE:GREGORIAN
BEGIN:VEVENT
DTSTART:20110328T220000Z
DTEND:20110329T000000Z
X-MICROSOFT-CDO-ALLDAYEVENT:FALSE
SUMMARY:Costco Wholesale-2nd Annual Networking Event
DESCRIPTION:Costco Wholesale Clubs 2nd Annual Networking Event\n\nMonday\, March 28th\n\n6-8 p.m.\n\n\n\nBring lots of Business Cards to network with other attendees.
X-ALT-DESC;FMTTYPE=text/html:<strong><span style="font-size: 14px">Costco Wholesale Clubs 2nd Annual Networking Event<br />\nMonday\, March 28th<br />\n6-8 p.m.</span><br />\n<br />\nBring lots of Business Cards to network with other attendees</strong>.
LOCATION:Costco Wholesale Club 1500 Gemini Place Columbus
UID:e.304.767
SEQUENCE:3
DTSTAMP:20260420T144005Z
URL:https://cm.newalbanychamber.com/events/details/costco-wholesale-2nd-annual-networking-event-03-28-2011-767
END:VEVENT

END:VCALENDAR
