BEGIN:VCALENDAR
VERSION:2.0
PRODID:-//ChamberMaster//Event Calendar 2.0//EN
METHOD:PUBLISH
X-PUBLISHED-TTL:P3D
REFRESH-INTERVAL:P3D
CALSCALE:GREGORIAN
BEGIN:VEVENT
DTSTART;VALUE=DATE:20100417
DTEND;VALUE=DATE:20100418
TRANSP:TRANSPARENT
X-MICROSOFT-CDO-ALLDAYEVENT:TRUE
SUMMARY:Dalia Koppes: ''Dreamscapes'' Art Gallery
DESCRIPTION:Hayley Gallery invites you to attend Dalia Koppes's\, of Bexley\, "Dreamscapes" showing on Saturday\, April 17\, 2010 from 6:30 pm until 9:00 pm. This event will be held at Hayley Gallery\, 45 Second Street\, New Albany 43054.Intriguing use of brilliant colors and sensual shapes make Dalia's paintings a constant and ever evolving feast for the eyes and mind. Whether taking a shape of a woman and intermingling it wiht a vase of flowers or creating a thought provoking abstract landscape\, she allows the vividness and richness of the colors to bring the figures and objects to life. The show continues through May 1\, 2010.For more information call 614-855-4856 or visit www.hayleygallery.com.
X-ALT-DESC;FMTTYPE=text/html:<div>Hayley Gallery invites you to attend Dalia Koppes's\, of Bexley\, &quot\;Dreamscapes&quot\; showing on Saturday\, April 17\, 2010 from 6:30 pm until 9:00 pm. This event will be held at Hayley Gallery\, 45 Second Street\, New&nbsp\;Albany 43054.</div><div>Intriguing use of brilliant colors and sensual shapes make Dalia's paintings a constant and ever evolving feast for the eyes and mind. Whether taking a shape of a woman and intermingling it wiht a vase of flowers or creating a thought provoking abstract landscape\, she allows the vividness and richness of the colors to bring the figures and objects to life. The show continues through May 1\, 2010.</div><div>For more information call 614-855-4856 or visit www.hayleygallery.com.</div>
LOCATION:45 Second StreetNew Albany\, Ohio 43054
UID:e.304.613
SEQUENCE:3
DTSTAMP:20260421T072013Z
URL:https://cm.newalbanychamber.com/events/details/dalia-koppes-dreamscapes-art-gallery-04-17-2010-613
END:VEVENT

END:VCALENDAR
