BEGIN:VCALENDAR
VERSION:2.0
PRODID:-//ChamberMaster//Event Calendar 2.0//EN
METHOD:PUBLISH
X-PUBLISHED-TTL:P3D
REFRESH-INTERVAL:P3D
CALSCALE:GREGORIAN
BEGIN:VEVENT
DTSTART;VALUE=DATE:20090308
DTEND;VALUE=DATE:20090309
TRANSP:TRANSPARENT
X-MICROSOFT-CDO-ALLDAYEVENT:TRUE
SUMMARY:Daylight Savings Time Begins
DESCRIPTION:
X-ALT-DESC;FMTTYPE=text/html:
LOCATION:
UID:e.304.292
SEQUENCE:3
DTSTAMP:20260422T022418Z
URL:https://cm.newalbanychamber.com/events/details/daylight-savings-time-begins-03-08-2009-292
END:VEVENT

END:VCALENDAR
