BEGIN:VCALENDAR
VERSION:2.0
PRODID:-//ChamberMaster//Event Calendar 2.0//EN
METHOD:PUBLISH
X-PUBLISHED-TTL:P3D
REFRESH-INTERVAL:P3D
CALSCALE:GREGORIAN
BEGIN:VEVENT
DTSTART:20260425T140000Z
DTEND:20260425T180000Z
X-MICROSOFT-CDO-ALLDAYEVENT:FALSE
SUMMARY:DEA National Drug Takeback Day
DESCRIPTION:PLAIN TOWNSHIP FIRE DEPARTMENT HOST DRUG TAKEBACK DAY\n\nHelp save a life by turning in your unused and undesired pill medications. New Albany-area residents can turn in undesired pill and capsule medications at the Plain Township Fire Station\, 9500 Johnstown Road\, Saturday\, April 25\, from 10 a.m. to 2 p.m. Only pills and capsules will be collected\; liquid medications and syringes cannot be turned in. The collected drugs will be incinerated according to federal and state environmental guidelines. Let's dispose responsibly.
X-ALT-DESC;FMTTYPE=text/html:<div style="text-align: justify\;"><br />\n<strong>PLAIN TOWNSHIP FIRE&nbsp\;DEPARTMENT HOST DRUG TAKEBACK DAY</strong><br />\nHelp save a life by turning in your unused and undesired pill medications. New Albany-area residents can turn in undesired pill and capsule medications at the Plain Township Fire Station\,&nbsp\;9500 Johnstown Road\, Saturday\, April 25\, from 10 a.m. to 2 p.m. Only pills and capsules will be collected\; liquid medications and syringes cannot be turned in. The collected drugs will be incinerated according to federal and state environmental guidelines. Let&#39\;s dispose responsibly.</div>\n
LOCATION:Plain Township Fire Station
UID:e.304.21948
SEQUENCE:3
DTSTAMP:20260423T094136Z
URL:https://cm.newalbanychamber.com/events/details/dea-national-drug-takeback-day-21948
END:VEVENT

END:VCALENDAR
