BEGIN:VCALENDAR
VERSION:2.0
PRODID:-//ChamberMaster//Event Calendar 2.0//EN
METHOD:PUBLISH
X-PUBLISHED-TTL:P3D
REFRESH-INTERVAL:P3D
CALSCALE:GREGORIAN
BEGIN:VEVENT
DTSTART:20091218T043000Z
DTEND:20091217T183000Z
X-MICROSOFT-CDO-ALLDAYEVENT:FALSE
SUMMARY:December Holiday Salute 2009
DESCRIPTION:The New Albany Chamber of Commerce invites you to attend our Holiday Salute that will be held on Thursday\, December 17\, of 2009.  This is our Annual Holiday Salute to Community leaders and our retiring board members along with the introduction of our new board members. Arc Industries will be one of our meeting sponsors along with the Anthem Chamber Plan.
X-ALT-DESC;FMTTYPE=text/html:<div>The New Albany Chamber of Commerce invites you to attend our Holiday Salute that will be held on Thursday\, December 17\,&nbsp\;of 2009.&nbsp\; This is our Annual Holiday Salute to Community leaders and our retiring board members along with the introduction of our new board members.</div><div>&nbsp\;</div><div>Arc Industries will be one of our meeting sponsors along with the Anthem Chamber Plan.</div>
LOCATION:The New Albany Country ClubOne Club LaneNew Albany\, Ohio 43054
UID:e.304.408
SEQUENCE:3
DTSTAMP:20260421T143945Z
URL:https://cm.newalbanychamber.com/events/details/december-holiday-salute-2009-12-17-2009-408
END:VEVENT

END:VCALENDAR
