BEGIN:VCALENDAR
VERSION:2.0
PRODID:-//ChamberMaster//Event Calendar 2.0//EN
METHOD:PUBLISH
X-PUBLISHED-TTL:P3D
REFRESH-INTERVAL:P3D
CALSCALE:GREGORIAN
BEGIN:VEVENT
DTSTART:20241206T213000Z
DTEND:20241207T003000Z
X-MICROSOFT-CDO-ALLDAYEVENT:FALSE
SUMMARY:Delta Awards Reception & Annual Meeting 2024
DESCRIPTION:The New Albany Chamber of Commerce invites you to the Delta Awards Reception & Annual Meeting December 6\, 2024. Join us in recognizing an extraordinary lineup of businesses\, leaders\, and changemakers whose impact on the community has been both profound and lasting. The annual Delta Awards celebrate those who've gone above and beyond to drive community growth\, inspire innovation\, and exemplify excellence in the community.\n\n\n\nHeld at the New Albany Country Club\, this year's Delta Awards features a lively cocktail reception\, an indulgent spread of gourmet hors d'oeuvres\, a brief trustee installation\, and an inspiring awards presentation. Conclude the night with more networking and celebration!\n\n\n\n4:30pm - 5:45pm | Heavy hors d'oeuvres\, cash bar & networking \n\n5:45pm - 6:30pm | Delta Awards Presentation & Trustee Installation \n\n6:30pm - 7:30pm | Heavy hors d'oeuvres\, cash bar & networking\n\n\n\n2024 Delta Award Recipients\n\nOutstanding Large Business: Ohio State Outpatient Care New Albany\n\nOutstanding Medium Business: Marburn Academy\n\nOutstanding Small Business: Truluck Boutique\n\nOutstanding Business Leader: Patrick Losinski\, CEO\, Columbus Metropolitan Library\n\nOutstanding Program: TIGER Event Series\n\nOutstanding Citizen: Beth Gibson\, Founder\, Buddy Up for Life\, Inc.\n\nOutstanding Student: Cole R. Stanley\n\n\n\nIncoming board trustee Stephanie Masterson of The Raines Group will be officially ratified and the evening will also mark a special transition as outgoing Board Chair Liz Morrison of Meta passes the gavel to 2025 Chair-Elect\, Jessica Pfister of Ohio State Outpatient Care New Albany.
X-ALT-DESC;FMTTYPE=text/html:<div style="text-align: justify\;">\n<p>The New Albany Chamber of Commerce invites you to the&nbsp\;Delta Awards&nbsp\;Reception &amp\; Annual Meeting December 6\, 2024. Join us in&nbsp\;recognizing&nbsp\;an extraordinary lineup of businesses\, leaders\, and changemakers whose impact on the community has been both profound and lasting. The annual Delta Awards celebrate those who&rsquo\;ve gone above and beyond to drive community growth\, inspire innovation\, and exemplify excellence in the community.<br />\n<br />\nHeld at the&nbsp\;New Albany Country Club\, this year&#39\;s Delta Awards&nbsp\;features a lively cocktail reception\, an indulgent spread of gourmet hors d&#39\;oeuvres\, a brief trustee installation\, and an inspiring awards presentation. Conclude the night with more networking and celebration!<br />\n<br />\n4:30pm - 5:45pm&nbsp\;| Heavy hors d&#39\;oeuvres\, cash bar &amp\; networking&nbsp\;<br />\n5:45pm - 6:30pm&nbsp\;| Delta Awards Presentation &amp\; Trustee Installation&nbsp\;<br />\n6:30pm - 7:30pm&nbsp\;| Heavy hors d&#39\;oeuvres\, cash bar &amp\; networking<br />\n<br />\n<strong>2024 Delta Award Recipients</strong><br />\n<strong>Outstanding Large Business:</strong>&nbsp\;Ohio State Outpatient Care New Albany<br />\n<strong>Outstanding Medium Business:</strong>&nbsp\;Marburn Academy<br />\n<strong>Outstanding Small Business:</strong>&nbsp\;Truluck Boutique<br />\n<strong>Outstanding Business Leader:</strong>&nbsp\;Patrick Losinski\, CEO\, Columbus Metropolitan Library<br />\n<strong>Outstanding Program:</strong>&nbsp\;TIGER Event Series<br />\n<strong>Outstanding Citizen:</strong>&nbsp\;Beth Gibson\, Founder\, Buddy Up for Life\, Inc.<br />\n<strong>Outstanding Student:</strong>&nbsp\;Cole R. Stanley<br />\n<br />\n<span style="font-size:12.0pt\;">Incoming board trustee Stephanie Masterson of The Raines Group will be officially </span><span style="font-size:12.0pt\;">ratified and the evening will also mark a special transition as outgoing Board Chair Liz Morrison of Meta passes the gavel to 2025 Chair-Elect\, Jessica Pfister of Ohio State Outpatient Care New Albany.</span></p>\n</div>\n
LOCATION:New Albany Country Club
UID:e.304.18752
SEQUENCE:3
DTSTAMP:20260424T074617Z
URL:https://cm.newalbanychamber.com/events/details/delta-awards-reception-annual-meeting-2024-18752
END:VEVENT

END:VCALENDAR
