BEGIN:VCALENDAR
VERSION:2.0
PRODID:-//ChamberMaster//Event Calendar 2.0//EN
METHOD:PUBLISH
X-PUBLISHED-TTL:P3D
REFRESH-INTERVAL:P3D
CALSCALE:GREGORIAN
BEGIN:VEVENT
DTSTART:20090226T230000Z
DTEND:20090227T020000Z
X-MICROSOFT-CDO-ALLDAYEVENT:FALSE
SUMMARY:Dinner and a Movie
DESCRIPTION:Our most requested ladies social is back! We will meet at California Pizza Kitchen at 7pm for dinner and move onto AMC Movie Center to see an upcoming movie (movie will be announced via the NAWN e-news). To join us\, RSVP to Tonya Petrucci at social@NAWN.org by 2/23/09.
X-ALT-DESC;FMTTYPE=text/html:Our most requested ladies social is back! We will meet at California Pizza Kitchen at 7pm for dinner and move onto AMC Movie Center to see an upcoming movie (movie will be announced via the NAWN e-news). To join us\, RSVP to Tonya Petrucci at social@NAWN.org by 2/23/09.     
LOCATION:California Pizza Kitchen and Easton AMC
UID:e.304.413
SEQUENCE:3
DTSTAMP:20260422T040552Z
URL:https://cm.newalbanychamber.com/events/details/dinner-and-a-movie-02-26-2009-413
END:VEVENT

END:VCALENDAR
