BEGIN:VCALENDAR
VERSION:2.0
PRODID:-//ChamberMaster//Event Calendar 2.0//EN
METHOD:PUBLISH
X-PUBLISHED-TTL:P3D
REFRESH-INTERVAL:P3D
CALSCALE:GREGORIAN
BEGIN:VEVENT
DTSTART;VALUE=DATE:20090313
DTEND;VALUE=DATE:20090314
TRANSP:TRANSPARENT
X-MICROSOFT-CDO-ALLDAYEVENT:TRUE
SUMMARY:''Discovering the Art in Nature'' by Dave Zilles
DESCRIPTION:Hayley Gallery invites you to see Dave Zilles's "Discovering the Art in Nature" on Friday\, March 13 from 7pm until 9:30pm. Dave Zilles is an artist from Delware\, Ohio who will be displaying his hand-crafted furniture. This event will be held at Hayley Gallery on 45 Second Street in New Albany\, 43054. For more information\, you can contact Hayley Savage at 614.855.4856 or visit her website at www.hayleygallery.com.
X-ALT-DESC;FMTTYPE=text/html:<div>Hayley Gallery invites you to see Dave Zilles's &quot\;Discovering the Art in Nature&quot\; on Friday\, March 13 from 7pm until 9:30pm. Dave Zilles is an artist from Delware\, Ohio who will be displaying his hand-crafted furniture. This event will be held at Hayley Gallery on 45 Second Street in New Albany\, 43054. For more information\, you can contact Hayley Savage at 614.855.4856 or visit her website at <a href="http://www.hayleygallery.com">www.hayleygallery.com</a>.</div>
LOCATION:
UID:e.304.318
SEQUENCE:3
DTSTAMP:20260422T022912Z
URL:https://cm.newalbanychamber.com/events/details/discovering-the-art-in-nature-by-dave-zilles-03-13-2009-318
END:VEVENT

END:VCALENDAR
