BEGIN:VCALENDAR
VERSION:2.0
PRODID:-//ChamberMaster//Event Calendar 2.0//EN
METHOD:PUBLISH
X-PUBLISHED-TTL:P3D
REFRESH-INTERVAL:P3D
CALSCALE:GREGORIAN
BEGIN:VEVENT
DTSTART:20090909T120000Z
DTEND:20090909T203000Z
X-MICROSOFT-CDO-ALLDAYEVENT:FALSE
SUMMARY:Disney Key to Excellence Program
DESCRIPTION:Disney Key to ExcellenceDiscover how effective leadership has driven Disney's employee/customer satisfaction and bottom-line results from the company's inception to today.Topics: Leadership - Management - Customer Service - Loyalty One day local workshop\, which helps you discover wasy to easily and immediatley adapt and apply those best practices to pick up the pace in these slow ecomonic times.
X-ALT-DESC;FMTTYPE=text/html:<div><span style="font-size: small"><strong>Disney Key to Excellence</strong></span></div><div>Discover how effective leadership has driven Disney&rsquo\;s employee/customer satisfaction and bottom-line results from the company&rsquo\;s inception to today.</div><div>Topics: Leadership - Management - Customer Service - Loyalty</div><div>&nbsp\;</div><div>One day local workshop\, which helps you discover wasy to easily and immediatley adapt and apply those best practices to pick up the pace in these slow ecomonic times.</div>
LOCATION:The Ohio State UniversityNationwide & Ohio Farm Bureau 4-H CenterBob Evans Memorial Auditorium2201 Fred Taylor DriveColumbus\, Ohio 43210
UID:e.304.486
SEQUENCE:3
DTSTAMP:20260421T173107Z
URL:https://cm.newalbanychamber.com/events/details/disney-key-to-excellence-program-09-09-2009-486
END:VEVENT

END:VCALENDAR
