BEGIN:VCALENDAR
VERSION:2.0
PRODID:-//ChamberMaster//Event Calendar 2.0//EN
METHOD:PUBLISH
X-PUBLISHED-TTL:P3D
REFRESH-INTERVAL:P3D
CALSCALE:GREGORIAN
BEGIN:VEVENT
DTSTART;VALUE=DATE:20101028
DTEND;VALUE=DATE:20101029
TRANSP:TRANSPARENT
X-MICROSOFT-CDO-ALLDAYEVENT:TRUE
SUMMARY:Disney's Approach to Business Excellence
DESCRIPTION:Join your local business community as the Columbus Young Professionals Club welcomes the world-renowned Disney Institute for an incredible day of learning\, insight\, and inspiration. \n\n\n\nThis is a rare opportunity to take an inside look at the "business behind the magic" from experienced Disney leaders\, who will share the successful business practices and unique philosophies that have made the Disney name synonymous with creativity\, quality\, and innovation the world over.\n\n\n\nYou will learn how to: \n\n\n\n?Communicate a compelling vision\n\n?Select and hire right-fit employees\n\n?Develop a service philosophy\n\n?Retain customers for life\n\n?Create a collaborative culture
X-ALT-DESC;FMTTYPE=text/html:Join your local business community as the Columbus Young Professionals Club welcomes the world-renowned Disney Institute for an incredible day of learning\, insight\, and inspiration. \n<br>\n<br>This is a rare opportunity to take an inside look at the "business behind the magic" from experienced Disney leaders\, who will share the successful business practices and unique philosophies that have made the Disney name synonymous with creativity\, quality\, and innovation the world over.\n<br>\n<br>You will learn how to: \n<br>\n<br>?Communicate a compelling vision\n<br>?Select and hire right-fit employees\n<br>?Develop a service philosophy\n<br>?Retain customers for life\n<br>?Create a collaborative culture
LOCATION:The Jessing Center 7625 North High Street Columbus\, OH 43235
UID:e.304.675
SEQUENCE:3
DTSTAMP:20260420T211017Z
URL:https://cm.newalbanychamber.com/events/details/disney-s-approach-to-business-excellence-10-28-2010-675
END:VEVENT

END:VCALENDAR
