BEGIN:VCALENDAR
VERSION:2.0
PRODID:-//ChamberMaster//Event Calendar 2.0//EN
METHOD:PUBLISH
X-PUBLISHED-TTL:P3D
REFRESH-INTERVAL:P3D
CALSCALE:GREGORIAN
BEGIN:VEVENT
DTSTART;VALUE=DATE:20100624
DTEND;VALUE=DATE:20100625
TRANSP:TRANSPARENT
X-MICROSOFT-CDO-ALLDAYEVENT:TRUE
SUMMARY:District 19 Town Hall Meeting with Rep. Harris
DESCRIPTION:Representative Marian Harris invites you to attend the District 19 Town Hall Meeting on Thursday\, June 24\, 2010 from 7:00 until 8:30 pm. It will be held at the New Albany Fire Department\, 9500 Johnstown Road\, New Albany 43054. Representative Harris will provide information on what's going on in the District as well as at the Statehouse.For more information call 614-466-4847 or email district19@ohr.state.oh.us.
X-ALT-DESC;FMTTYPE=text/html:<div>Representative Marian Harris invites you to attend the District 19&nbsp\;Town Hall Meeting on Thursday\, June 24\, 2010 from 7:00 until 8:30 pm. It will be held at the New Albany Fire Department\, 9500 Johnstown Road\, New Albany 43054. Representative Harris will provide information on what's going on in the District as well as at the Statehouse.</div><div>For more information call 614-466-4847 or email <a href="mailto:district19@ohr.state.oh.us">district19@ohr.state.oh.us</a>.</div>
LOCATION:New Albany Fire Department9500 Johnstown RoadNew Albany\, Ohio 43054
UID:e.304.656
SEQUENCE:3
DTSTAMP:20260421T035500Z
URL:https://cm.newalbanychamber.com/events/details/district-19-town-hall-meeting-with-rep-harris-06-24-2010-656
END:VEVENT

END:VCALENDAR
