BEGIN:VCALENDAR
VERSION:2.0
PRODID:-//ChamberMaster//Event Calendar 2.0//EN
METHOD:PUBLISH
X-PUBLISHED-TTL:P3D
REFRESH-INTERVAL:P3D
CALSCALE:GREGORIAN
BEGIN:VEVENT
DTSTART;VALUE=DATE:20091112
DTEND;VALUE=DATE:20091113
TRANSP:TRANSPARENT
X-MICROSOFT-CDO-ALLDAYEVENT:TRUE
SUMMARY:District 20 Dialogue w/ Garland
DESCRIPTION:Come meet State Representative\, Nancy Garland\, and share your concerns on Thursday\, November 12th\, beginning at 7 pm. This meeting is open to all residents within the 20th District. Invite your friends and neighbors to attend this meeting\, which will be held at the Village of New Albany\, 99 W. Main Street of New Albany\, 43054.For more information contact Jennifer Dillard\, Legislative Aid\, at 614-644-6002.
X-ALT-DESC;FMTTYPE=text/html:<div>Come meet State Representative\,&nbsp\;Nancy Garland\, and share your concerns on Thursday\, November 12th\, beginning at 7 pm. This meeting is open to all residents within the 20th District. Invite your friends and&nbsp\;neighbors to attend this meeting\, which&nbsp\;will be held at the Village of&nbsp\;New Albany\, 99 W. Main Street of New Albany\, 43054.</div><div>For more information contact&nbsp\;Jennifer Dillard\, Legislative Aid\, at 614-644-6002.&nbsp\;</div>
LOCATION:
UID:e.304.547
SEQUENCE:3
DTSTAMP:20260421T143809Z
URL:https://cm.newalbanychamber.com/events/details/district-20-dialogue-w-garland-11-12-2009-547
END:VEVENT

END:VCALENDAR
