BEGIN:VCALENDAR
VERSION:2.0
PRODID:-//ChamberMaster//Event Calendar 2.0//EN
METHOD:PUBLISH
X-PUBLISHED-TTL:P3D
REFRESH-INTERVAL:P3D
CALSCALE:GREGORIAN
BEGIN:VEVENT
DTSTART;VALUE=DATE:20100624
DTEND;VALUE=DATE:20100625
TRANSP:TRANSPARENT
X-MICROSOFT-CDO-ALLDAYEVENT:TRUE
SUMMARY:District 20 Town Hall Meeting with Rep. Garland
DESCRIPTION:Representative Nancy Garland invites you to attend the District 20 Town Hall Meeting on Thursday\, June 24\, 2010\, beginning at 7:00 pm. This meeting will be held at the Village of New Albany\, Council Chambers\, 99 W Main Street\, New Albany 43054. This will be an opportunity to discuss important significant state government issues and make your opinion heard.For more information call 614-644-6002 or email district20@ohr.state.oh.us.
X-ALT-DESC;FMTTYPE=text/html:<div>Representative Nancy Garland invites you to attend the District 20 Town Hall Meeting on Thursday\, June 24\, 2010\, beginning at 7:00 pm. This meeting will be held at the Village of New Albany\, Council Chambers\, 99 W Main Street\, New Albany 43054. This will be an opportunity to discuss important significant state government issues and make your opinion heard.</div><div>For more information call 614-644-6002 or email <a href="mailto:district20@ohr.state.oh.us">district20@ohr.state.oh.us</a>.</div>
LOCATION:Village of New AlbanyCouncil Chambers99 W Main StreetNew Albany\, Ohio 43054
UID:e.304.657
SEQUENCE:3
DTSTAMP:20260421T035622Z
URL:https://cm.newalbanychamber.com/events/details/district-20-town-hall-meeting-with-rep-garland-06-24-2010-657
END:VEVENT

END:VCALENDAR
