BEGIN:VCALENDAR
VERSION:2.0
PRODID:-//ChamberMaster//Event Calendar 2.0//EN
METHOD:PUBLISH
X-PUBLISHED-TTL:P3D
REFRESH-INTERVAL:P3D
CALSCALE:GREGORIAN
BEGIN:VEVENT
DTSTART:20100614T130000Z
DTEND:20100813T193000Z
X-MICROSOFT-CDO-ALLDAYEVENT:FALSE
SUMMARY:Drama Kids Summer Cap
DESCRIPTION:Drama Kids International Summer Fun Camp 2010June\, July and AugustAges 6-11 and 12-18Call 614-453-6232www.DramaKids.com/oh1Get ready for a spectacular months of fun with Drama Kids International Summer Camps. Check out following website for dates and times available.
X-ALT-DESC;FMTTYPE=text/html:<div>Drama Kids International Summer Fun Camp 2010</div><div>June\, July and August</div><div>Ages 6-11 and 12-18</div><div>Call 614-453-6232</div><div><a href="http://www.DramaKids.com/oh1">www.DramaKids.com/oh1</a></div><div>Get ready for a spectacular&nbsp\;months of fun with Drama Kids International Summer Camps. Check out following website for dates and times available.</div>
LOCATION:
UID:e.304.605
SEQUENCE:3
DTSTAMP:20260421T022313Z
URL:https://cm.newalbanychamber.com/events/details/drama-kids-summer-cap-06-14-2010-605
END:VEVENT

END:VCALENDAR
