BEGIN:VCALENDAR
VERSION:2.0
PRODID:-//ChamberMaster//Event Calendar 2.0//EN
METHOD:PUBLISH
X-PUBLISHED-TTL:P3D
REFRESH-INTERVAL:P3D
CALSCALE:GREGORIAN
BEGIN:VEVENT
DTSTART:20101205T180000Z
DTEND:20101205T200000Z
X-MICROSOFT-CDO-ALLDAYEVENT:FALSE
SUMMARY:Ealy House Open House Tours
DESCRIPTION:Ealy House Open home Tours\n\n1-3 p.m.\n\nSunday\, December 5th\n\n\n\nCome View New Albany's pre civil war\n\nrestored home managed by\n\nThe New Albany Plain Township Historical Society.
X-ALT-DESC;FMTTYPE=text/html:<em><strong><span style="font-size: 16px">Ealy House Open home Tours<br />\n1-3 p.m.<br />\nSunday\, December 5th</span></strong></em><br />\n<br />\n<span style="font-size: 14px">Come View New Albany&#39\;s pre civil war<br />\nrestored home managed by<br />\nThe New Albany Plain Township Historical Society</span>.<br />\n
LOCATION:
UID:e.304.729
SEQUENCE:3
DTSTAMP:20260420T192558Z
URL:https://cm.newalbanychamber.com/events/details/ealy-house-open-house-tours-12-05-2010-729
END:VEVENT

END:VCALENDAR
