BEGIN:VCALENDAR
VERSION:2.0
PRODID:-//ChamberMaster//Event Calendar 2.0//EN
METHOD:PUBLISH
X-PUBLISHED-TTL:P3D
REFRESH-INTERVAL:P3D
CALSCALE:GREGORIAN
BEGIN:VEVENT
DTSTART:20110416T123000Z
DTEND:20110416T140000Z
X-MICROSOFT-CDO-ALLDAYEVENT:FALSE
SUMMARY:Easter Bunny Breakfast at Bon Vie Bistro
DESCRIPTION:The Easter Bunny is visiting Bon Vie Bistro at Easton Town Center for breakfast on Saturday April 16th\, to spread holiday cheer from 8:30 ? 10:00 a.m. Bon Vie has planned a morning full of fun festivities for guests with a breakfast buffet\, photo opportunities with the Easter Bunny (be sure to bring a camera!)\, a coloring contest and other kid-friendly activities. Each child in attendance will receive a gift bag. \n\n \n\n\n\nBon Vie will serve a breakfast buffet complete with scrambled eggs\, French toast\, home fries\, bacon\, fresh fruit and a choice of juice\, milk\, soft drink\, coffee or tea. The cost is $10.95 for adults and $5.95 for children 10 and under. Reservations can be made by calling Bon Vie at 614-416-0463\, preferrably by Wednesday\, April 13.
X-ALT-DESC;FMTTYPE=text/html:The Easter Bunny is visiting Bon Vie Bistro at Easton Town Center for breakfast on Saturday April 16th\, to spread holiday cheer from 8:30 ? 10:00 a.m. Bon Vie has planned a morning full of fun festivities for guests with a breakfast buffet\, photo opportunities with the Easter Bunny (be sure to bring a camera!)\, a coloring contest and other kid-friendly activities. Each child in attendance will receive a gift bag. \n<br> \n<br>\n<br>Bon Vie will serve a breakfast buffet complete with scrambled eggs\, French toast\, home fries\, bacon\, fresh fruit and a choice of juice\, milk\, soft drink\, coffee or tea. The cost is $10.95 for adults and $5.95 for children 10 and under. Reservations can be made by calling Bon Vie at 614-416-0463\, preferrably by Wednesday\, April 13.\n<br>
LOCATION:Bon Vie Bistro 4089 The Strand East Columbus\, OH 43219
UID:e.304.788
SEQUENCE:3
DTSTAMP:20260420T113726Z
URL:https://cm.newalbanychamber.com/events/details/easter-bunny-breakfast-at-bon-vie-bistro-04-16-2011-788
END:VEVENT

END:VCALENDAR
