BEGIN:VCALENDAR
VERSION:2.0
PRODID:-//ChamberMaster//Event Calendar 2.0//EN
METHOD:PUBLISH
X-PUBLISHED-TTL:P3D
REFRESH-INTERVAL:P3D
CALSCALE:GREGORIAN
BEGIN:VEVENT
DTSTART;VALUE=DATE:20080315
DTEND;VALUE=DATE:20080316
TRANSP:TRANSPARENT
X-MICROSOFT-CDO-ALLDAYEVENT:TRUE
SUMMARY:Easter Egg Hunt 2008
DESCRIPTION:Community Easter Egg Hunt sponsored by the New Albany First Church of the Nazarene.
X-ALT-DESC;FMTTYPE=text/html:<div>Community Easter Egg Hunt&nbsp\;sponsored by the New Albany First Church of the Nazarene.</div>\n
LOCATION:New Albany Nazarene Church Route 62
UID:e.304.208
SEQUENCE:3
DTSTAMP:20260422T200618Z
URL:https://cm.newalbanychamber.com/events/details/easter-egg-hunt-2008-208
END:VEVENT

END:VCALENDAR
