BEGIN:VCALENDAR
VERSION:2.0
PRODID:-//ChamberMaster//Event Calendar 2.0//EN
METHOD:PUBLISH
X-PUBLISHED-TTL:P3D
REFRESH-INTERVAL:P3D
CALSCALE:GREGORIAN
BEGIN:VEVENT
DTSTART:20100327T130000Z
DTEND:20100327T160000Z
X-MICROSOFT-CDO-ALLDAYEVENT:FALSE
SUMMARY:Easter Eggstravaganza
DESCRIPTION:This is Easter fun for the whole family!  There will be age appropriate egg hunts\, a petting zoo\, crafts\, egg coloring\, a visit from the Easter Bunny and a special performance by Amazing Illusionists!  All the fun starts at 9am sharp!
X-ALT-DESC;FMTTYPE=text/html:This is Easter fun for the whole family!  There will be age appropriate egg hunts\, a petting zoo\, crafts\, egg coloring\, a visit from the Easter Bunny and a special performance by Amazing Illusionists!  All the fun starts at 9am sharp!
LOCATION:New Albany Nazarene 6000 Johnstown Road New Albany
UID:e.304.586
SEQUENCE:3
DTSTAMP:20260421T094547Z
URL:https://cm.newalbanychamber.com/events/details/easter-eggstravaganza-03-27-2010-586
END:VEVENT

END:VCALENDAR
