BEGIN:VCALENDAR
VERSION:2.0
PRODID:-//ChamberMaster//Event Calendar 2.0//EN
METHOD:PUBLISH
X-PUBLISHED-TTL:P3D
REFRESH-INTERVAL:P3D
CALSCALE:GREGORIAN
BEGIN:VEVENT
DTSTART;VALUE=DATE:20100318
DTEND;VALUE=DATE:20100319
TRANSP:TRANSPARENT
X-MICROSOFT-CDO-ALLDAYEVENT:TRUE
SUMMARY:Employers and Employment Market in New Albany Presentation
DESCRIPTION:Eileen D. Leuby\, president of the New Albany Chamber of Commerce will be one of the several keynote speaks presenting an overview of the Employers and Employment Market\, here\, in New Albany. This will be held at the New Albany Branch of the Columbus Metropolitan Library on Wednesday\, March 18\, beginning at 11:00 am. This event is free to attend.Note: Ms. Leuby will speak for about 45 minutes and be available for questions afterward.
X-ALT-DESC;FMTTYPE=text/html:<div>Eileen D. Leuby\, president of the New&nbsp\;Albany Chamber of Commerce will be one of the several keynote speaks presenting an overview of the Employers and Employment Market\, here\, in New Albany. This will be held at the New&nbsp\;Albany Branch of the Columbus Metropolitan Library on Wednesday\, March 18\, beginning at 11:00 am. This event is free to attend.</div><div>Note: Ms. Leuby will speak for about 45 minutes and be available for questions afterward.</div>
LOCATION:New Albany Branch Library200 Market StreetNew Albany\, Ohio
UID:e.304.576
SEQUENCE:3
DTSTAMP:20260421T090130Z
URL:https://cm.newalbanychamber.com/events/details/employers-and-employment-market-in-new-albany-presentation-03-18-2010-576
END:VEVENT

END:VCALENDAR
