BEGIN:VCALENDAR
VERSION:2.0
PRODID:-//ChamberMaster//Event Calendar 2.0//EN
METHOD:PUBLISH
X-PUBLISHED-TTL:P3D
REFRESH-INTERVAL:P3D
CALSCALE:GREGORIAN
BEGIN:VEVENT
DTSTART:20100119T190000Z
DTEND:20100119T210000Z
X-MICROSOFT-CDO-ALLDAYEVENT:FALSE
SUMMARY:Empowering Women in 2010
DESCRIPTION:Key4Women invites you to attend "Empowering Women in 2010.  Join this dynamic group of women for this interactive discussion and for the discussion of our Key4Women group in 2010.  Plenty of time for networking.
X-ALT-DESC;FMTTYPE=text/html:<div>Key4Women invites you to attend &quot\;Empowering Women in 2010.&nbsp\; Join this dynamic group of women for this interactive discussion and for the discussion of our Key4Women group in 2010.&nbsp\; Plenty of time for networking.</div>
LOCATION:New Albany Library200 Market StreetNew Albany\, Ohio 43054 With Guest Speaker: Shelly Thomas\, Key Investments Services
UID:e.304.558
SEQUENCE:3
DTSTAMP:20260421T114053Z
URL:https://cm.newalbanychamber.com/events/details/empowering-women-in-2010-01-19-2010-558
END:VEVENT

END:VCALENDAR
