BEGIN:VCALENDAR
VERSION:2.0
PRODID:-//ChamberMaster//Event Calendar 2.0//EN
METHOD:PUBLISH
X-PUBLISHED-TTL:P3D
REFRESH-INTERVAL:P3D
CALSCALE:GREGORIAN
BEGIN:VEVENT
DTSTART:20101214T223000Z
DTEND:20101215T003000Z
X-MICROSOFT-CDO-ALLDAYEVENT:FALSE
SUMMARY:Entrepreneur Network Mixer
DESCRIPTION:Entrepreneur Networking Mixer- this event is open to all current and future entrepreneurs\, government officials\, community leaders and resource providers.  Participants will have the opportunity to enjoy appetizers and drinks while networking and collaborating with other area professionals.\n\n\n\nLandon's Corner\n\n29 S. High Street\n\nNew Albany
X-ALT-DESC;FMTTYPE=text/html:Entrepreneur Networking Mixer- this event is open to all current and future entrepreneurs\, government officials\, community leaders and resource providers.&nbsp\; Participants will have the opportunity to enjoy appetizers and drinks while networking and collaborating with other area professionals.<br />\n<br />\nLandon&#39\;s Corner<br />\n29 S. High Street<br />\nNew Albany
LOCATION:
UID:e.304.731
SEQUENCE:3
DTSTAMP:20260420T174859Z
URL:https://cm.newalbanychamber.com/events/details/entrepreneur-network-mixer-12-14-2010-731
END:VEVENT

END:VCALENDAR
