BEGIN:VCALENDAR
VERSION:2.0
PRODID:-//ChamberMaster//Event Calendar 2.0//EN
METHOD:PUBLISH
X-PUBLISHED-TTL:P3D
REFRESH-INTERVAL:P3D
CALSCALE:GREGORIAN
BEGIN:VEVENT
DTSTART:20100916T213000Z
DTEND:20100916T213000Z
X-MICROSOFT-CDO-ALLDAYEVENT:FALSE
SUMMARY:Entrepreneur Networking Mixer in the Village of New Albany
DESCRIPTION:The Village of New Albany and TechColumbus invite you to an after hour?s networking mixer at Landon?s Corners in New Albany.  This free event is for current and future entrepreneurs\, government officials\, community leaders and resource providers.  Participants will have the opportunity to enjoy appetizers and drinks while networking and collaborating with other area professionals.\n\n\n\nRepresentatives from the Village of New Albany and the TechColumbus TechStart Program will be available to provide additional information about the resources and services that they can provide to entrepreneurs.\n\n\n\nAlthough the event is free\, please contact Laura Coffee at 614-675-3755 or at lcoffee@techcolumbus.org  to register for the event.
X-ALT-DESC;FMTTYPE=text/html:The Village of New Albany and TechColumbus invite you to an after hour?s networking mixer at Landon?s Corners in New Albany.  This free event is for current and future entrepreneurs\, government officials\, community leaders and resource providers.  Participants will have the opportunity to enjoy appetizers and drinks while networking and collaborating with other area professionals.\n<br>\n<br>Representatives from the Village of New Albany and the TechColumbus TechStart Program will be available to provide additional information about the resources and services that they can provide to entrepreneurs.\n<br>\n<br>Although the event is free\, please contact Laura Coffee at 614-675-3755 or at lcoffee@techcolumbus.org  to register for the event.\n<br>
LOCATION:Landon's Corners\, 29 South High Street\, New Albany 43054
UID:e.304.677
SEQUENCE:3
DTSTAMP:20260420T235611Z
URL:https://cm.newalbanychamber.com/events/details/entrepreneur-networking-mixer-in-the-village-of-new-albany-09-16-2010-677
END:VEVENT

END:VCALENDAR
