BEGIN:VCALENDAR
VERSION:2.0
PRODID:-//ChamberMaster//Event Calendar 2.0//EN
METHOD:PUBLISH
X-PUBLISHED-TTL:P3D
REFRESH-INTERVAL:P3D
CALSCALE:GREGORIAN
BEGIN:VEVENT
DTSTART:20250612T153000Z
DTEND:20250612T173000Z
X-MICROSOFT-CDO-ALLDAYEVENT:FALSE
SUMMARY:Establishing Your Brand Workshop
DESCRIPTION:In today's competitive market\, a strong brand identity isn't just helpful it's essential. Whether you're launching a new business\, refreshing your image\, or scaling for growth\, this hands-on workshop led by Meta will equip you with the tools to define and strengthen your brand.\n\n  Discover what makes a brand identity truly resonate\n\n  Learn the key components of successful branding logo\, tone\, visuals\, messaging\n\n  Get expert tips on how to differentiate your business and build recognition\n\n  Participate in guided exercises to shape your brand strategy\n\nThis interactive session is ideal for small business owners\, entrepreneurs\, marketing professionals\, and anyone looking to clarify their brand in a crowded marketplace.\n\nSeating is limited reserve your spot now and start building a brand that stands out.\n11:30am - 12:00pm: Luncheon & Welcome Remarks\n\n12:00pm -  1:30pm: 90-minute Workshop
X-ALT-DESC;FMTTYPE=text/html:<div style="text-align: justify\;">\n<p data-end="567" data-start="289"><br />\nIn today&rsquo\;s competitive market\, a strong brand identity isn&#39\;t just helpful&mdash\;it&#39\;s essential. Whether you&#39\;re launching a new business\, refreshing your image\, or scaling for growth\, this hands-on workshop led by Meta will equip you with the tools to define and strengthen your brand.</p>\n\n<p data-end="850" data-start="569">&#9989\; Discover what makes a brand identity truly resonate<br data-end="625" data-start="622" />\n&#9989\; Learn the key components of successful branding&mdash\;logo\, tone\, visuals\, messaging<br data-end="708" data-start="705" />\n&#9989\; Get expert tips on how to differentiate your business and build recognition<br data-end="788" data-start="785" />\n&#9989\; Participate in guided exercises to shape your brand strategy</p>\n\n<p data-end="1020" data-start="852">This interactive session is ideal for small business owners\, entrepreneurs\, marketing professionals\, and anyone looking to clarify their brand in a crowded marketplace.</p>\n\n<p data-end="1110" data-start="1022"><strong data-end="1110" data-start="1022">Seating is limited&mdash\;reserve your spot now and start building a brand that stands out.</strong></p>\n<span style="text-align: justify\;">11:30am - 12:00pm:&nbsp\;Luncheon &amp\; Welcome Remarks</span><br style="text-align: justify\;" />\n<span style="text-align: justify\;">12:00pm - &nbsp\;1:30pm: 90-minute Workshop</span></div>\n
LOCATION:New Albany Country Club
UID:e.304.20314
SEQUENCE:3
DTSTAMP:20260421T113846Z
URL:https://cm.newalbanychamber.com/events/details/establishing-your-brand-workshop-20314
END:VEVENT

END:VCALENDAR
