BEGIN:VCALENDAR
VERSION:2.0
PRODID:-//ChamberMaster//Event Calendar 2.0//EN
METHOD:PUBLISH
X-PUBLISHED-TTL:P3D
REFRESH-INTERVAL:P3D
CALSCALE:GREGORIAN
BEGIN:VEVENT
DTSTART:20100502T183000Z
DTEND:20100502T203000Z
X-MICROSOFT-CDO-ALLDAYEVENT:FALSE
SUMMARY:Eurydice - HS Drama Production
DESCRIPTION:
X-ALT-DESC;FMTTYPE=text/html:
LOCATION:Mershad Hall @ McCoy Center for the Arts
UID:e.304.593
SEQUENCE:3
DTSTAMP:20260421T053237Z
URL:https://cm.newalbanychamber.com/events/details/eurydice-hs-drama-production-05-02-2010-593
END:VEVENT

END:VCALENDAR
