BEGIN:VCALENDAR
VERSION:2.0
PRODID:-//ChamberMaster//Event Calendar 2.0//EN
METHOD:PUBLISH
X-PUBLISHED-TTL:P3D
REFRESH-INTERVAL:P3D
CALSCALE:GREGORIAN
BEGIN:VEVENT
DTSTART:20250612T194500Z
DTEND:20250612T200000Z
X-MICROSOFT-CDO-ALLDAYEVENT:FALSE
SUMMARY:Express Employment Professionals Ribbon Cutting & Open House
DESCRIPTION:Join the New Albany Chamber of Commerce in celebrating Express Employment Professionals 2nd Anniversary with a special Open House and Ribbon Cutting Thursday\, June 12\, 2025\, 3:00pm-7:00pm. There will be brief remarks and ribbon cutting at 3:45pm to mark this exciting milestone.\n\n\n\nCome meet the friendly team\, enjoy a festive atmosphere\, and indulge in a variety of delicious offerings including sushi\, BBQ\, and a curated selection of beer\, wine\, and bourbon.\n\n\n\nAbout Express Employment Professionals\n\nExpress Employment Professionals in Newark\, Ohio\, is a locally owned staffing agency dedicated to connecting job seekers with local businesses.  They offer a range of employment solutions\, including full-time\, part-time\, and temporary positions across various sectors such as Professional\, Light Industrial\, Skilled Trades\, and Office Services.  Beyond staffing\, the Newark team actively participates in community initiatives to strengthen the local area.  As part of an international network founded in 1983\, Express combines local expertise with global resources to provide comprehensive workforce solutions.
X-ALT-DESC;FMTTYPE=text/html:<div style="text-align: justify\;"><br />\nJoin the New Albany Chamber of Commerce in celebrating Express Employment Professionals 2nd Anniversary with a special Open House and Ribbon Cutting Thursday\, June 12\, 2025\, 3:00pm-7:00pm. There will be brief remarks and ribbon cutting at 3:45pm to mark this exciting milestone.<br />\n<br />\nCome meet the friendly team\, enjoy a festive atmosphere\, and indulge in a variety of delicious offerings including sushi\, BBQ\, and a curated selection of beer\, wine\, and bourbon.<br />\n<br />\n<strong>About <a href="https://isielitetraining.com/locations/newalbany-oh/" target="_blank">E</a><a href="https://www.expresspros.com/newarkoh" target="_blank">xpress Employment Professionals</a></strong><br />\nExpress Employment Professionals in Newark\, Ohio\, is a locally owned staffing agency dedicated to connecting job seekers with local businesses.&nbsp\; They offer a range of employment solutions\, including full-time\, part-time\, and temporary positions across various sectors such as Professional\, Light Industrial\, Skilled Trades\, and Office Services.&nbsp\; Beyond staffing\, the Newark team actively participates in community initiatives to strengthen the local area.&nbsp\; As part of an international network founded in 1983\, Express combines local expertise with global resources to provide comprehensive workforce solutions.</div>\n
LOCATION:Express Employment Professionals
UID:e.304.20386
SEQUENCE:3
DTSTAMP:20260421T114256Z
URL:https://cm.newalbanychamber.com/events/details/express-employment-professionals-ribbon-cutting-open-house-20386
END:VEVENT

END:VCALENDAR
