BEGIN:VCALENDAR
VERSION:2.0
PRODID:-//ChamberMaster//Event Calendar 2.0//EN
METHOD:PUBLISH
X-PUBLISHED-TTL:P3D
REFRESH-INTERVAL:P3D
CALSCALE:GREGORIAN
BEGIN:VEVENT
DTSTART:20101008T190000Z
DTEND:20101008T230000Z
X-MICROSOFT-CDO-ALLDAYEVENT:FALSE
SUMMARY:Fall Classic Car\, Cycle & Truck Show Registration
DESCRIPTION:First AnnualFall Classic Car\, Cycle and Truck Show-RegistrationMarket Square\, New Albany
X-ALT-DESC;FMTTYPE=text/html:<div>First Annual</div><div>Fall Classic Car\, Cycle and Truck Show-Registration</div><div>Market Square\,&nbsp\;New Albany</div>
LOCATION:Market SquareNew Albany\, Ohio43054
UID:e.304.687
SEQUENCE:3
DTSTAMP:20260420T210926Z
URL:https://cm.newalbanychamber.com/events/details/fall-classic-car-cycle-truck-show-registration-10-08-2010-687
END:VEVENT

END:VCALENDAR
