BEGIN:VCALENDAR
VERSION:2.0
PRODID:-//ChamberMaster//Event Calendar 2.0//EN
METHOD:PUBLISH
X-PUBLISHED-TTL:P3D
REFRESH-INTERVAL:P3D
CALSCALE:GREGORIAN
BEGIN:VEVENT
DTSTART:20101024T153000Z
DTEND:20101024T153000Z
X-MICROSOFT-CDO-ALLDAYEVENT:FALSE
SUMMARY:Fall Festival at New Albany Gardens & Care center
DESCRIPTION:Fall Festival at the New Albany Gardens & Care Center\n\nJoin us for FREE family fun for everyone!\n\n\n\nFood items for sale include:\n\nHomemade Chili\, Hot dogs\, Kettle Crom\, Hot apple cider and More!\n\nBake Sale to benefit resident coucil\n\n\n\nChildren's Activities Include:\n\nPumpkin Painting\n\nFun Games\n\nFace Painting\n\nCookie decorating\n\nCostume Contest at 1 p.m.
X-ALT-DESC;FMTTYPE=text/html:Fall Festival at the New Albany Gardens &amp\; Care Center<br />\nJoin us for FREE family fun for everyone!<br />\n<br />\nFood items for sale include:<br />\nHomemade Chili\, Hot dogs\, Kettle Crom\, Hot apple cider and More!<br />\nBake Sale to benefit resident coucil<br />\n<br />\nChildren&#39\;s Activities Include:<br />\nPumpkin Painting<br />\nFun Games<br />\nFace Painting<br />\nCookie decorating<br />\nCostume Contest at 1 p.m.
LOCATION:New Albany Care Center 5691 Thompson Road Columbus\, Ohio 43230
UID:e.304.721
SEQUENCE:3
DTSTAMP:20260420T221719Z
URL:https://cm.newalbanychamber.com/events/details/fall-festival-at-new-albany-gardens-care-center-10-24-2010-721
END:VEVENT

END:VCALENDAR
