BEGIN:VCALENDAR
VERSION:2.0
PRODID:-//ChamberMaster//Event Calendar 2.0//EN
METHOD:PUBLISH
X-PUBLISHED-TTL:P3D
REFRESH-INTERVAL:P3D
CALSCALE:GREGORIAN
BEGIN:VEVENT
DTSTART:20081013T210000Z
DTEND:20081014T000000Z
X-MICROSOFT-CDO-ALLDAYEVENT:FALSE
SUMMARY:Fall Networking Event at Costco Wholesale
DESCRIPTION:Costco is hosting a Fall Networking Event.\n\nBring lots of business cards to Network with.\nEnjoy refreshments from our Deli and Bakery.\n\nWe are expecting a good turn out!
X-ALT-DESC;FMTTYPE=text/html:Costco is hosting a Fall Networking Event.\n\nBring lots of business cards to Network with.\nEnjoy refreshments from our Deli and Bakery.\n\nWe are expecting a good turn out!
LOCATION:1500 Gemini Place Columbus\, Ohio 43240
UID:e.304.320
SEQUENCE:3
DTSTAMP:20260422T114857Z
URL:https://cm.newalbanychamber.com/events/details/fall-networking-event-at-costco-wholesale-10-13-2008-320
END:VEVENT

END:VCALENDAR
