BEGIN:VCALENDAR
VERSION:2.0
PRODID:-//ChamberMaster//Event Calendar 2.0//EN
METHOD:PUBLISH
X-PUBLISHED-TTL:P3D
REFRESH-INTERVAL:P3D
CALSCALE:GREGORIAN
BEGIN:VEVENT
DTSTART:20090725T230000Z
DTEND:20090726T000000Z
X-MICROSOFT-CDO-ALLDAYEVENT:FALSE
SUMMARY:Family Fun Night
DESCRIPTION:ClearView Church invites you to FAMILY FUN NIGHT!  Come\, bring a friend\, and enjoy free sno-cones\, popcorn\, games\, and a program featuring puppets\, clowns\, singing and fun!   Please bring your own lawn chair(s) or blanket.
X-ALT-DESC;FMTTYPE=text/html:ClearView Church invites you to FAMILY FUN NIGHT!  Come\, bring a friend\, and enjoy free sno-cones\, popcorn\, games\, and a program featuring puppets\, clowns\, singing and fun!   Please bring your own lawn chair(s) or blanket.
LOCATION:Wexner Community Park (7600 Swickard Woods Blvd.\, New Albany).
UID:e.304.460
SEQUENCE:3
DTSTAMP:20260421T203336Z
URL:https://cm.newalbanychamber.com/events/details/family-fun-night-07-25-2009-460
END:VEVENT

END:VCALENDAR
