BEGIN:VCALENDAR
VERSION:2.0
PRODID:-//ChamberMaster//Event Calendar 2.0//EN
METHOD:PUBLISH
X-PUBLISHED-TTL:P3D
REFRESH-INTERVAL:P3D
CALSCALE:GREGORIAN
BEGIN:VEVENT
DTSTART:20090219T163000Z
DTEND:20090219T180000Z
X-MICROSOFT-CDO-ALLDAYEVENT:FALSE
SUMMARY:February Chamber Event 2009
DESCRIPTION:Monthly Chamber Event-LuncheonThe Entrepreneurial Age - Panelist DiscussionWhere do entrepreneurs Benefit?What resources are available?How can we get linked? RSVP's should be made to 855-4400 or fax registration form to: 855-4446.
X-ALT-DESC;FMTTYPE=text/html:<div>Monthly Chamber Event-Luncheon</div><div>The Entrepreneurial Age - Panelist Discussion</div><div>Where do entrepreneurs Benefit?</div><div>What resources are available?</div><div>How can we get linked?</div><div>&nbsp\;</div><div>RSVP's should be made to 855-4400 or fax registration form to: 855-4446.</div>
LOCATION:Village Hall - Council Chambers99 W. Main StreetNew Albany\, Ohio
UID:e.304.285
SEQUENCE:3
DTSTAMP:20260422T040507Z
URL:https://cm.newalbanychamber.com/events/details/february-chamber-event-2009-02-19-2009-285
END:VEVENT

END:VCALENDAR
