BEGIN:VCALENDAR
VERSION:2.0
PRODID:-//ChamberMaster//Event Calendar 2.0//EN
METHOD:PUBLISH
X-PUBLISHED-TTL:P3D
REFRESH-INTERVAL:P3D
CALSCALE:GREGORIAN
BEGIN:VEVENT
DTSTART:20110217T163000Z
DTEND:20110217T163000Z
X-MICROSOFT-CDO-ALLDAYEVENT:FALSE
SUMMARY:February Chamber Luncheon
DESCRIPTION:February Chamber Luncheon\n\nHealthcare Reform - Impact on Businesses\n\n\n\nGuest Speakers will include:\n\n\n\nPanelists-\n\nKevin Flatly\, Vice President of Compensation & Benefits for Abercrombie & Fitch\n\nJonathan Hendrix\, Vice President of Sales & Service of Aetna\n\nJ.R. Pine\, Vice President-Life\, Health & Employee Benefits.
X-ALT-DESC;FMTTYPE=text/html:<span style="font-size: 14px"><strong>February Chamber Luncheon<br />\nHealthcare Reform - Impact on Businesses</strong></span><br />\n<br />\n<span style="font-size: 14px"><strong>Guest Speakers will include:<br />\n<br />\nPanelists-<br />\nKevin Flatly\, Vice President of Compensation &amp\; Benefits for Abercrombie &amp\; Fitch<br />\nJonathan Hendrix\, Vice President of Sales &amp\; Service of Aetna<br />\nJ.R. Pine\, Vice President-Life\, Health &amp\; Employee Benefits.</strong></span><br />\n<br />\n
LOCATION:New Albany Country Club One Club Lane
UID:e.304.762
SEQUENCE:3
DTSTAMP:20260420T144749Z
URL:https://cm.newalbanychamber.com/events/details/february-chamber-luncheon-02-17-2011-762
END:VEVENT

END:VCALENDAR
