BEGIN:VCALENDAR
VERSION:2.0
PRODID:-//ChamberMaster//Event Calendar 2.0//EN
METHOD:PUBLISH
X-PUBLISHED-TTL:P3D
REFRESH-INTERVAL:P3D
CALSCALE:GREGORIAN
BEGIN:VEVENT
DTSTART;VALUE=DATE:20081213
DTEND;VALUE=DATE:20081214
TRANSP:TRANSPARENT
X-MICROSOFT-CDO-ALLDAYEVENT:TRUE
SUMMARY:Firefighters for Kids Holiday Toy Drive
DESCRIPTION:The Plain Township FIre Department (PTFD) will participate in the local kick-off of the Firefighters for Kids holiday toy drive on Saturday\, December 13th. The PTFD will be collecting unwrapped toys from 8am until 3pm. Rumor has it\, Santa will be there from 11pm until 12pm. Unwrapped toys can also be dropped off at the Plain Township Fire Station\, located at 9500 Johnstown Road\, any time until December 23rd. For more information call 614-855-7370.
X-ALT-DESC;FMTTYPE=text/html:<div>The Plain Township FIre Department (PTFD) will participate in the local kick-off of the Firefighters for Kids holiday toy drive on Saturday\, December 13th. The PTFD will be collecting unwrapped toys from 8am until 3pm. Rumor has it\, Santa will be there from 11pm until 12pm. Unwrapped toys can also be dropped off at the Plain Township Fire Station\, located at 9500 Johnstown Road\, any time until December 23rd. For more information call 614-855-7370.</div>
LOCATION:
UID:e.304.392
SEQUENCE:3
DTSTAMP:20260422T084717Z
URL:https://cm.newalbanychamber.com/events/details/firefighters-for-kids-holiday-toy-drive-12-13-2008-392
END:VEVENT

END:VCALENDAR
