BEGIN:VCALENDAR
VERSION:2.0
PRODID:-//ChamberMaster//Event Calendar 2.0//EN
METHOD:PUBLISH
X-PUBLISHED-TTL:P3D
REFRESH-INTERVAL:P3D
CALSCALE:GREGORIAN
BEGIN:VEVENT
DTSTART:20101009T130000Z
DTEND:20101009T210000Z
X-MICROSOFT-CDO-ALLDAYEVENT:FALSE
SUMMARY:First Annual Fall Classic Car\, Cycle and Truck Show
DESCRIPTION:First AnnualFall Classic Car\, Cycle and Truck Show Categories:Antiques\, Classics\, Customized\, Cycles\, Exotics\, Sports and Tuners. Events: Oldies Music\, Door Prizes\, Food\, Raffle\, Adult Activities\, Balloons and Pumpkin Pie Eating Contest. Event Proceeds to help benefitFlying Horse Farmsand other children's charities.
X-ALT-DESC;FMTTYPE=text/html:<div><strong><span style="font-size: x-small">First Annual</span></strong></div><div><strong><span style="font-size: x-small">Fall Classic Car\, Cycle and Truck Show</span></strong></div><div>&nbsp\;</div><div>Categories:</div><div>Antiques\, Classics\, Customized\, Cycles\, Exotics\, Sports and Tuners.</div><div>&nbsp\;</div><div>Events: Oldies Music\, Door Prizes\, Food\, Raffle\, Adult Activities\, Balloons and Pumpkin Pie Eating Contest.</div><div>&nbsp\;</div><div>Event Proceeds to help benefitFlying Horse Farms</div><div>and other children's charities.</div>
LOCATION:Market SquareNew Albany\, Ohio43054
UID:e.304.688
SEQUENCE:3
DTSTAMP:20260420T211622Z
URL:https://cm.newalbanychamber.com/events/details/first-annual-fall-classic-car-cycle-and-truck-show-10-09-2010-688
END:VEVENT

END:VCALENDAR
