BEGIN:VCALENDAR
VERSION:2.0
PRODID:-//ChamberMaster//Event Calendar 2.0//EN
METHOD:PUBLISH
X-PUBLISHED-TTL:P3D
REFRESH-INTERVAL:P3D
CALSCALE:GREGORIAN
BEGIN:VEVENT
DTSTART;VALUE=DATE:20081206
DTEND;VALUE=DATE:20081207
TRANSP:TRANSPARENT
X-MICROSOFT-CDO-ALLDAYEVENT:TRUE
SUMMARY:Food and Toy Drive
DESCRIPTION:The Raines Group will be hosting a drop-off site to collect non-perishable food items and new\, unwrapped toys/gifts to benefit The Salvation Army in Greater Columbus. Please join us for this worthy cause and enjoy coffee\, cider\, and doughnuts. This event will be held on Saturday\, December 6\, from 10am until 2pm at 5207 Hampsted Village Center Way in New Albany\, 43054\, located in the Kroger Shopping Plaza). *We will also accept donations throughout the week prior to the event\, starting on Monday\, December 1st. Our weekday office hours are 8:30am until 5:30pm. Toys for children ages 10-12 are especially needed. For more information\, call 1-800-498-1480 and enter code 3119 or visit our web site at www.TheRainesGroup.com.
X-ALT-DESC;FMTTYPE=text/html:<div>The Raines Group will be hosting a drop-off site to collect non-perishable food items and new\, unwrapped toys/gifts to benefit The Salvation Army in Greater Columbus. Please join us for this worthy cause and enjoy coffee\, cider\, and doughnuts. This event will be held on Saturday\, December 6\, from 10am until 2pm at 5207 Hampsted Village Center Way in New Albany\, 43054\, located in the Kroger Shopping Plaza). *We will also accept donations throughout the week prior to the event\, starting on Monday\, December 1st. Our weekday office hours are 8:30am until 5:30pm. Toys for children ages 10-12 are especially needed. For more information\, call 1-800-498-1480 and enter code 3119 or visit our web site at <a href="http://www.TheRainesGroup.com">www.TheRainesGroup.com</a>.</div>
LOCATION:
UID:e.304.391
SEQUENCE:3
DTSTAMP:20260422T071102Z
URL:https://cm.newalbanychamber.com/events/details/food-and-toy-drive-12-06-2008-391
END:VEVENT

END:VCALENDAR
