BEGIN:VCALENDAR
VERSION:2.0
PRODID:-//ChamberMaster//Event Calendar 2.0//EN
METHOD:PUBLISH
X-PUBLISHED-TTL:P3D
REFRESH-INTERVAL:P3D
CALSCALE:GREGORIAN
BEGIN:VEVENT
DTSTART;VALUE=DATE:20090320
DTEND;VALUE=DATE:20090321
TRANSP:TRANSPARENT
X-MICROSOFT-CDO-ALLDAYEVENT:TRUE
SUMMARY:Footloose...10th Anniversary Tour
DESCRIPTION:Beginning at 7:30pm\, come see Footloose at the Jeanne B. McCoy Community Center for the Arts. For more information or to buy tickets\, go to www.mccoycenterforthearts.com or call the Box Office at 614-939-2245.
X-ALT-DESC;FMTTYPE=text/html:<div>Beginning at 7:30pm\, come see <em>Footloose</em> at the Jeanne B. McCoy Community Center for the Arts. For more information or to buy tickets\, go to <a href="http://www.mccoycenterforthearts.com">www.mccoycenterforthearts.com</a> or call the Box Office at 614-939-2245.</div>
LOCATION:
UID:e.304.297
SEQUENCE:3
DTSTAMP:20260422T022850Z
URL:https://cm.newalbanychamber.com/events/details/footloose-10th-anniversary-tour-03-20-2009-297
END:VEVENT

END:VCALENDAR
