BEGIN:VCALENDAR
VERSION:2.0
PRODID:-//ChamberMaster//Event Calendar 2.0//EN
METHOD:PUBLISH
X-PUBLISHED-TTL:P3D
REFRESH-INTERVAL:P3D
CALSCALE:GREGORIAN
BEGIN:VEVENT
DTSTART;VALUE=DATE:20090502
DTEND;VALUE=DATE:20090503
TRANSP:TRANSPARENT
X-MICROSOFT-CDO-ALLDAYEVENT:TRUE
SUMMARY:Founder's Day Meeting
DESCRIPTION:The Founder's Day meeting will be held on Saturday\, May 2\, at 9am located at  the New Albany Firehouse.
X-ALT-DESC;FMTTYPE=text/html:<div>The Founder&rsquo\;s Day meeting&nbsp\;will be held on Saturday\, May 2\, at 9am located at&nbsp\; the New Albany Firehouse.</div>
LOCATION:
UID:e.304.402
SEQUENCE:3
DTSTAMP:20260421T234101Z
URL:https://cm.newalbanychamber.com/events/details/founder-s-day-meeting-05-02-2009-402
END:VEVENT

END:VCALENDAR
