BEGIN:VCALENDAR
VERSION:2.0
PRODID:-//ChamberMaster//Event Calendar 2.0//EN
METHOD:PUBLISH
X-PUBLISHED-TTL:P3D
REFRESH-INTERVAL:P3D
CALSCALE:GREGORIAN
BEGIN:VEVENT
DTSTART;VALUE=DATE:20080503
DTEND;VALUE=DATE:20080504
TRANSP:TRANSPARENT
X-MICROSOFT-CDO-ALLDAYEVENT:TRUE
SUMMARY:Four Aces School Fundraiser
DESCRIPTION:Four Aces School FundraiserEnjoy an entertaining evening of Las Vegas style gamesFun casual attirePlease reply by Wednesday\, April 23\, 2008RSVP required\; no tickets are sold at the door.Attendees must be 21 or older.
X-ALT-DESC;FMTTYPE=text/html:<div>Four Aces School Fundraiser</div><div>Enjoy an entertaining evening of Las Vegas style games</div><div>Fun casual attire</div><div>Please reply by Wednesday\, April 23\, 2008</div><div>RSVP required\; no tickets are sold at the door.</div><div>Attendees must be 21 or older.</div>
LOCATION:Wexner Party BarnOne Whitebarn RoadNew albany
UID:e.304.184
SEQUENCE:3
DTSTAMP:20260422T174739Z
URL:https://cm.newalbanychamber.com/events/details/four-aces-school-fundraiser-05-03-2008-184
END:VEVENT

END:VCALENDAR
