BEGIN:VCALENDAR
VERSION:2.0
PRODID:-//ChamberMaster//Event Calendar 2.0//EN
METHOD:PUBLISH
X-PUBLISHED-TTL:P3D
REFRESH-INTERVAL:P3D
CALSCALE:GREGORIAN
BEGIN:VEVENT
DTSTART:20100429T120000Z
DTEND:20100429T200000Z
X-MICROSOFT-CDO-ALLDAYEVENT:FALSE
SUMMARY:Franklin University Leadership Symposium
DESCRIPTION:Raymond Mason Leadership Symposium sponsored by Franklin University.Thursday\, April 29thColumbus Convention Center Keynote Panel:Bill LhotaJo Ann DavidsonJim KunkDoug KridlerKerrii AndersonEddie Harrell Luncheon Speakers also are:  Mallory Holtman & Sara Tucholsky
X-ALT-DESC;FMTTYPE=text/html:<div>Raymond Mason Leadership Symposium sponsored by Franklin University.</div><div>Thursday\, April 29th</div><div>Columbus Convention Center Keynote Panel:</div><div>Bill Lhota</div><div>Jo Ann Davidson</div><div>Jim Kunk</div><div>Doug Kridler</div><div>Kerrii Anderson</div><div>Eddie Harrell</div><div>&nbsp\;</div><div>Luncheon Speakers also are:&nbsp\; Mallory Holtman &amp\; Sara Tucholsky</div>
LOCATION:Columbus Convention Center
UID:e.304.606
SEQUENCE:3
DTSTAMP:20260421T070646Z
URL:https://cm.newalbanychamber.com/events/details/franklin-university-leadership-symposium-04-29-2010-606
END:VEVENT

END:VCALENDAR
