BEGIN:VCALENDAR
VERSION:2.0
PRODID:-//ChamberMaster//Event Calendar 2.0//EN
METHOD:PUBLISH
X-PUBLISHED-TTL:P3D
REFRESH-INTERVAL:P3D
CALSCALE:GREGORIAN
BEGIN:VEVENT
DTSTART:20100209T233000Z
DTEND:20100210T004500Z
X-MICROSOFT-CDO-ALLDAYEVENT:FALSE
SUMMARY:Free College Financial Planning Night
DESCRIPTION:A free College Financial Planning Night will be held from 6:30-7:45 at the New Albany Public Library. Topics include eligibility for financial aid\, how to construck a plan to pay for the upcoming college costs in most tax-efficient way and how to pick the colleges that will give the best financial aid packages.
X-ALT-DESC;FMTTYPE=text/html:<div>A free College Financial Planning Night will be held from 6:30-7:45 at the New Albany Public Library. Topics include eligibility for financial aid\, how to construck a plan to pay for the upcoming college costs in most tax-efficient way and how to pick the colleges that will give the best financial aid packages.</div>
LOCATION:New Albany Library200 Market StreetNew Albany\, Ohio
UID:e.304.568
SEQUENCE:3
DTSTAMP:20260421T102806Z
URL:https://cm.newalbanychamber.com/events/details/free-college-financial-planning-night-02-09-2010-568
END:VEVENT

END:VCALENDAR
