BEGIN:VCALENDAR
VERSION:2.0
PRODID:-//ChamberMaster//Event Calendar 2.0//EN
METHOD:PUBLISH
X-PUBLISHED-TTL:P3D
REFRESH-INTERVAL:P3D
CALSCALE:GREGORIAN
BEGIN:VEVENT
DTSTART:20260811T223000Z
DTEND:20260812T020000Z
X-MICROSOFT-CDO-ALLDAYEVENT:FALSE
SUMMARY:Free Family Flick Night - The Lion King
DESCRIPTION:Admission is free and there are no tickets required. Food truck favorites will be on hand for guests to enjoy. Alcohol is prohibited on Family Flick Nights. This summer\, the New Albany Community Foundation will screen three FREE animated family movies on The Mershad Digital Experience. This state-of-the-art\, 20'x 36' LED video wall provides audiences with next-level technology in a super-sized format.\n\n2026 Summer Schedule:\n\nJune 16- The Princess and the Frog\n\nJuly 14- Ratatouille   \n\nAugust 11- The Lion King
X-ALT-DESC;FMTTYPE=text/html:Admission is free and there are no tickets required. Food truck favorites will be on hand for guests to enjoy. Alcohol is prohibited on Family Flick Nights. This summer\, the New Albany Community Foundation will screen three FREE animated family movies on The Mershad Digital Experience. This state-of-the-art\, 20&rsquo\;x 36&rsquo\; LED video wall provides audiences with next-level technology in a super-sized format.<br />\n2026 Summer Schedule:<br />\nJune 16- The Princess and the Frog<br />\nJuly 14- Ratatouille&nbsp\; &nbsp\;<br />\nAugust 11- The Lion King
LOCATION:Hinson Amphitheater
UID:e.304.21856
SEQUENCE:3
DTSTAMP:20260424T091043Z
URL:https://cm.newalbanychamber.com/events/details/free-family-flick-night-the-lion-king-21856
END:VEVENT

END:VCALENDAR
