BEGIN:VCALENDAR
VERSION:2.0
PRODID:-//ChamberMaster//Event Calendar 2.0//EN
METHOD:PUBLISH
X-PUBLISHED-TTL:P3D
REFRESH-INTERVAL:P3D
CALSCALE:GREGORIAN
BEGIN:VEVENT
DTSTART:20091001T173000Z
DTEND:20091001T230000Z
X-MICROSOFT-CDO-ALLDAYEVENT:FALSE
SUMMARY:From Planning to Funding
DESCRIPTION:SCORE event.  Frm Planning to funding\, learn all the options available to fund your business.  Are you looking to start\, maintain or grow your business?  Are you looking for funding to assist you in your efforts?  Are you confised where to turn and what options meet your needs?  Then join us on Thursday\, October 1st for an interactive event to discuss all options available for small business funding.
X-ALT-DESC;FMTTYPE=text/html:SCORE event.  Frm Planning to funding\, learn all the options available to fund your business.  Are you looking to start\, maintain or grow your business?  Are you looking for funding to assist you in your efforts?  Are you confised where to turn and what options meet your needs?  Then join us on Thursday\, October 1st for an interactive event to discuss all options available for small business funding.
LOCATION:Franklin University\, Ross Auditorium\, 201 S. Grant Street\, Downtown Campus
UID:e.304.504
SEQUENCE:3
DTSTAMP:20260421T160114Z
URL:https://cm.newalbanychamber.com/events/details/from-planning-to-funding-10-01-2009-504
END:VEVENT

END:VCALENDAR
