BEGIN:VCALENDAR
VERSION:2.0
PRODID:-//ChamberMaster//Event Calendar 2.0//EN
METHOD:PUBLISH
X-PUBLISHED-TTL:P3D
REFRESH-INTERVAL:P3D
CALSCALE:GREGORIAN
BEGIN:VEVENT
DTSTART;VALUE=DATE:20080418
DTEND;VALUE=DATE:20080419
TRANSP:TRANSPARENT
X-MICROSOFT-CDO-ALLDAYEVENT:TRUE
SUMMARY:From the Top!
DESCRIPTION:From the Top\, the hit public radio program heard on more than 250 station coast to coast\, and locally on WOSU\, will tape a live broadcast at the McCoy Center for the Arts.  The weekly radio showcase of America's top  young classical musicians\, hosted by internationally renowned pianist Christopher O'Riley\, will feature musicians from across the country as well as the local area.  The show partners gifted young classical musicians with renowned classical artists in radio broadcasts that capture the top-notch musicianship\, offbeat humor\, and insights of America's best rising and established performers.
X-ALT-DESC;FMTTYPE=text/html:<div>From the Top\, the hit public radio program heard on more than 250 station coast to coast\, and locally on WOSU\, will tape a live broadcast at the McCoy Center for the Arts.&nbsp\; The weekly radio showcase of America's top&nbsp\; young classical musicians\, hosted by internationally renowned pianist Christopher O'Riley\, will feature musicians from across the country as well as the local area.&nbsp\; The show partners gifted young classical musicians with renowned classical artists in radio broadcasts that capture the top-notch musicianship\, offbeat humor\, and insights of America's best rising and established performers.</div>
LOCATION:McCoy Center for the Arts100 W. Granville StNew Albany\, OH 43054
UID:e.304.210
SEQUENCE:3
DTSTAMP:20260422T184805Z
URL:https://cm.newalbanychamber.com/events/details/from-the-top-04-18-2008-210
END:VEVENT

END:VCALENDAR
