BEGIN:VCALENDAR
VERSION:2.0
PRODID:-//ChamberMaster//Event Calendar 2.0//EN
METHOD:PUBLISH
X-PUBLISHED-TTL:P3D
REFRESH-INTERVAL:P3D
CALSCALE:GREGORIAN
BEGIN:VEVENT
DTSTART;VALUE=DATE:20080412
DTEND;VALUE=DATE:20080413
TRANSP:TRANSPARENT
X-MICROSOFT-CDO-ALLDAYEVENT:TRUE
SUMMARY:Garth Fagan Dance
DESCRIPTION:For his pioneering choreography of The Lion King\, Garth Fagan was awarded the prestigious 1998 Tony Award for Best Choreography.  Sunning leaps\, dizzying turns\, impossibly held balances\, and the unique energy of Afro-Caribbean dance are trademarks of Fagan's award-winning choreography and dancers.  Garth Fagan Dance\, now in its 37th year\, is at the top of its profession and continues to represent the peak of its art form and amaze audiences around the country and world.
X-ALT-DESC;FMTTYPE=text/html:<div>For his pioneering choreography of <em>The Lion King\,</em> Garth Fagan was awarded the prestigious 1998 Tony Award for Best Choreography.&nbsp\; Sunning leaps\, dizzying turns\, impossibly held balances\, and the unique energy of Afro-Caribbean dance are trademarks of Fagan's award-winning choreography and dancers.&nbsp\; Garth Fagan Dance\, now in its 37th year\, is at the top of its profession and continues to represent the peak of its art form and amaze audiences around the country and world.</div>
LOCATION:McCoy Center for the Arts100 W Granville StNew Albany\, OH 43054
UID:e.304.212
SEQUENCE:3
DTSTAMP:20260422T184936Z
URL:https://cm.newalbanychamber.com/events/details/garth-fagan-dance-04-12-2008-212
END:VEVENT

END:VCALENDAR
